BEGIN:VCALENDAR
VERSION:2.0
PRODID:-//San Nicolás de Myra - ECPv6.15.12.2//NONSGML v1.0//EN
CALSCALE:GREGORIAN
METHOD:PUBLISH
X-WR-CALNAME:San Nicolás de Myra
X-ORIGINAL-URL:https://www.sannicolasdemyra.cl/web
X-WR-CALDESC:Eventos para San Nicolás de Myra
REFRESH-INTERVAL;VALUE=DURATION:PT1H
X-Robots-Tag:noindex
X-PUBLISHED-TTL:PT1H
BEGIN:VTIMEZONE
TZID:America/Santiago
BEGIN:STANDARD
TZOFFSETFROM:-0300
TZOFFSETTO:-0400
TZNAME:-04
DTSTART:20250406T030000
END:STANDARD
BEGIN:DAYLIGHT
TZOFFSETFROM:-0400
TZOFFSETTO:-0300
TZNAME:-03
DTSTART:20250907T040000
END:DAYLIGHT
BEGIN:STANDARD
TZOFFSETFROM:-0300
TZOFFSETTO:-0400
TZNAME:-04
DTSTART:20260405T030000
END:STANDARD
BEGIN:DAYLIGHT
TZOFFSETFROM:-0400
TZOFFSETTO:-0300
TZNAME:-03
DTSTART:20260906T040000
END:DAYLIGHT
BEGIN:STANDARD
TZOFFSETFROM:-0300
TZOFFSETTO:-0400
TZNAME:-04
DTSTART:20270404T030000
END:STANDARD
BEGIN:DAYLIGHT
TZOFFSETFROM:-0400
TZOFFSETTO:-0300
TZNAME:-03
DTSTART:20270905T040000
END:DAYLIGHT
END:VTIMEZONE
BEGIN:VEVENT
DTSTART;TZID=America/Santiago:20260420T080000
DTEND;TZID=America/Santiago:20260424T170000
DTSTAMP:20260424T191020
CREATED:20260330T212059Z
LAST-MODIFIED:20260330T212059Z
UID:28114-1776672000-1777050000@www.sannicolasdemyra.cl
SUMMARY:Book Week
DESCRIPTION:
URL:https://www.sannicolasdemyra.cl/web/evento/book-week-3/
END:VEVENT
BEGIN:VEVENT
DTSTART;TZID=America/Santiago:20260420T080000
DTEND;TZID=America/Santiago:20260424T170000
DTSTAMP:20260424T191020
CREATED:20260330T212146Z
LAST-MODIFIED:20260330T212146Z
UID:28116-1776672000-1777050000@www.sannicolasdemyra.cl
SUMMARY:Tarde de la amistad  8° Básico
DESCRIPTION:
URL:https://www.sannicolasdemyra.cl/web/evento/tarde-de-la-amistad-8-basico/
END:VEVENT
BEGIN:VEVENT
DTSTART;TZID=America/Santiago:20260424T080000
DTEND;TZID=America/Santiago:20260424T090000
DTSTAMP:20260424T191020
CREATED:20260330T213024Z
LAST-MODIFIED:20260330T213024Z
UID:28132-1777017600-1777021200@www.sannicolasdemyra.cl
SUMMARY:Liturgia de Curso -Prekinder
DESCRIPTION:
URL:https://www.sannicolasdemyra.cl/web/evento/liturgia-de-curso-prekinder/
END:VEVENT
BEGIN:VEVENT
DTSTART;TZID=America/Santiago:20260424T080000
DTEND;TZID=America/Santiago:20260424T170000
DTSTAMP:20260424T191020
CREATED:20260330T213105Z
LAST-MODIFIED:20260330T213105Z
UID:28134-1777017600-1777050000@www.sannicolasdemyra.cl
SUMMARY:Inicio de Proceso de Matrículas PK 2027
DESCRIPTION:Inicio de Proceso de Matrículas PK 2027 -New Families
URL:https://www.sannicolasdemyra.cl/web/evento/inicio-de-proceso-de-matriculas-pk-2027-2/
END:VEVENT
BEGIN:VEVENT
DTSTART;TZID=America/Santiago:20260424T190000
DTEND;TZID=America/Santiago:20260424T233000
DTSTAMP:20260424T191020
CREATED:20260330T213224Z
LAST-MODIFIED:20260330T213239Z
UID:28136-1777057200-1777073400@www.sannicolasdemyra.cl
SUMMARY:Entre Padres - CPA
DESCRIPTION:Viernes 24/04✨ \nEl CPA invita a la comunidad a Entre Padres\, una instancia para compartir y encontrarnos. \nAtentos a las redes del CPA para más información e inscripciones.
URL:https://www.sannicolasdemyra.cl/web/evento/entre-padres-cpa/
END:VEVENT
BEGIN:VEVENT
DTSTART;TZID=America/Santiago:20260425T080000
DTEND;TZID=America/Santiago:20260425T123000
DTSTAMP:20260424T191020
CREATED:20260330T213314Z
LAST-MODIFIED:20260330T213314Z
UID:28138-1777104000-1777120200@www.sannicolasdemyra.cl
SUMMARY:Liga Escolar de Voleibol - Spike
DESCRIPTION:
URL:https://www.sannicolasdemyra.cl/web/evento/liga-escolar-de-voleibol-spike-3/
END:VEVENT
BEGIN:VEVENT
DTSTART;TZID=America/Santiago:20260426T080000
DTEND;TZID=America/Santiago:20260426T170000
DTSTAMP:20260424T191020
CREATED:20260330T213348Z
LAST-MODIFIED:20260330T213348Z
UID:28140-1777190400-1777222800@www.sannicolasdemyra.cl
SUMMARY:Torneo Escolar de Tenis Mario Caracci -CDUC
DESCRIPTION:
URL:https://www.sannicolasdemyra.cl/web/evento/torneo-escolar-de-tenis-mario-caracci-cduc-3/
END:VEVENT
BEGIN:VEVENT
DTSTART;TZID=America/Santiago:20260427T080000
DTEND;TZID=America/Santiago:20260430T170000
DTSTAMP:20260424T191020
CREATED:20260330T212229Z
LAST-MODIFIED:20260330T212229Z
UID:28118-1777276800-1777568400@www.sannicolasdemyra.cl
SUMMARY:Tarde de la amistad  8° Básico
DESCRIPTION:
URL:https://www.sannicolasdemyra.cl/web/evento/tarde-de-la-amistad-8-basico-2/
END:VEVENT
BEGIN:VEVENT
DTSTART;TZID=America/Santiago:20260427T190000
DTEND;TZID=America/Santiago:20260427T203000
DTSTAMP:20260424T191020
CREATED:20260330T213457Z
LAST-MODIFIED:20260330T213457Z
UID:28142-1777316400-1777321800@www.sannicolasdemyra.cl
SUMMARY:Encuentros EMAUS apoderados 3° Básico
DESCRIPTION:Encuentros EMAUS apoderados 3° Básico\nEn la Capilla del Colegio a las 19 hrs
URL:https://www.sannicolasdemyra.cl/web/evento/encuentros-emaus-apoderados-3-basico/
END:VEVENT
BEGIN:VEVENT
DTSTART;TZID=America/Santiago:20260428T080000
DTEND;TZID=America/Santiago:20260428T170000
DTSTAMP:20260424T191020
CREATED:20260330T213539Z
LAST-MODIFIED:20260330T213539Z
UID:28144-1777363200-1777395600@www.sannicolasdemyra.cl
SUMMARY:Charla\, ley TEA.  Padres con invitación
DESCRIPTION:Charla\, ley TEA. \nPadres con invitación (Pronto más información)
URL:https://www.sannicolasdemyra.cl/web/evento/charla-ley-tea-padres-con-invitacion/
END:VEVENT
BEGIN:VEVENT
DTSTART;TZID=America/Santiago:20260428T080000
DTEND;TZID=America/Santiago:20260428T170000
DTSTAMP:20260424T191020
CREATED:20260330T213624Z
LAST-MODIFIED:20260330T213624Z
UID:28146-1777363200-1777395600@www.sannicolasdemyra.cl
SUMMARY:Clase de Atletismo  -2° Básico -CDUC
DESCRIPTION:
URL:https://www.sannicolasdemyra.cl/web/evento/clase-de-atletismo-2-basico-cduc-3/
END:VEVENT
BEGIN:VEVENT
DTSTART;TZID=America/Santiago:20260428T080000
DTEND;TZID=America/Santiago:20260428T170000
DTSTAMP:20260424T191020
CREATED:20260330T213650Z
LAST-MODIFIED:20260330T213650Z
UID:28148-1777363200-1777395600@www.sannicolasdemyra.cl
SUMMARY:Balance & Wheels  -1° Básico
DESCRIPTION:
URL:https://www.sannicolasdemyra.cl/web/evento/balance-wheels-1-basico/
END:VEVENT
BEGIN:VEVENT
DTSTART;TZID=America/Santiago:20260428T080000
DTEND;TZID=America/Santiago:20260428T170000
DTSTAMP:20260424T191020
CREATED:20260330T213718Z
LAST-MODIFIED:20260330T213718Z
UID:28150-1777363200-1777395600@www.sannicolasdemyra.cl
SUMMARY:Cierre de Proceso de Matrículas  PK 2027 - New Families
DESCRIPTION:
URL:https://www.sannicolasdemyra.cl/web/evento/cierre-de-proceso-de-matriculas-pk-2027-new-families/
END:VEVENT
BEGIN:VEVENT
DTSTART;TZID=America/Santiago:20260429T080000
DTEND;TZID=America/Santiago:20260429T130000
DTSTAMP:20260424T191020
CREATED:20260330T213803Z
LAST-MODIFIED:20260330T213803Z
UID:28152-1777449600-1777467600@www.sannicolasdemyra.cl
SUMMARY:Salida Pedagógica Challengers- III Medio
DESCRIPTION:
URL:https://www.sannicolasdemyra.cl/web/evento/salida-pedagogica-challengers-iii-medio/
END:VEVENT
BEGIN:VEVENT
DTSTART;TZID=America/Santiago:20260429T093000
DTEND;TZID=America/Santiago:20260429T103000
DTSTAMP:20260424T191020
CREATED:20260330T213847Z
LAST-MODIFIED:20260330T213847Z
UID:28154-1777455000-1777458600@www.sannicolasdemyra.cl
SUMMARY:Class Sale I Medio A
DESCRIPTION:
URL:https://www.sannicolasdemyra.cl/web/evento/class-sale-i-medio-a-2/
END:VEVENT
BEGIN:VEVENT
DTSTART;TZID=America/Santiago:20260430T080000
DTEND;TZID=America/Santiago:20260430T093000
DTSTAMP:20260424T191020
CREATED:20260330T213959Z
LAST-MODIFIED:20260330T213959Z
UID:28156-1777536000-1777541400@www.sannicolasdemyra.cl
SUMMARY:Coffee With the Principal - Apoderados Infant & Junior Level
DESCRIPTION:
URL:https://www.sannicolasdemyra.cl/web/evento/coffee-with-the-principal-apoderados-infant-junior-level/
END:VEVENT
END:VCALENDAR